BEGIN:VCALENDAR
VERSION:2.0
PRODID:-//washoecasafoundation.com//NONSGML kigkonsult.se iCalcreator 2.30.
 10//
CALSCALE:GREGORIAN
METHOD:PUBLISH
UID:ed50e8b0-df28-427f-95c8-717bddf9db34
X-WR-CALDESC:CASA Board of Trustees Meeting\nEvery Third Tuesday of the Mon
 th\n5:30-6:45pm\n\n
X-WR-RELCALID:09fc7b1b3115e108186a6a70b3529da4
X-WR-TIMEZONE:America/Los_Angeles
BEGIN:VTIMEZONE
TZID:America/Los_Angeles
BEGIN:STANDARD
TZNAME:PST
DTSTART:20201101T020000
TZOFFSETFROM:-0700
TZOFFSETTO:-0800
RDATE:20211107T020000
RDATE:20221106T020000
END:STANDARD
BEGIN:DAYLIGHT
TZNAME:PDT
DTSTART:20210314T020000
TZOFFSETFROM:-0800
TZOFFSETTO:-0700
RDATE:20220313T020000
RDATE:20230312T020000
END:DAYLIGHT
END:VTIMEZONE
BEGIN:VEVENT
UID:3dfb5f1f-f36d-49b8-8bac-ad775e75e78d
DTSTAMP:20260423T063434Z
DESCRIPTION:CASA Board of Trustees Meeting\nEvery Third Tuesday of the Mont
 h\n5:30-6:45pm\n\n
DTSTART;TZID=America/Los_Angeles:20210921T173000
DTEND;TZID=America/Los_Angeles:20210921T194500
LOCATION:
SUMMARY:Board of Trustees Meeting
END:VEVENT
END:VCALENDAR
