BEGIN:VCALENDAR
VERSION:2.0
PRODID:-//washoecasafoundation.com//NONSGML kigkonsult.se iCalcreator 2.30.
 10//
CALSCALE:GREGORIAN
METHOD:PUBLISH
UID:91c23232-aa19-4ad6-a7c4-4505bd7c12d3
X-WR-CALDESC:
X-WR-RELCALID:96a0f43bf2e9558d8d7da3d7280b9aaa
X-WR-TIMEZONE:America/Los_Angeles
BEGIN:VTIMEZONE
TZID:America/Los_Angeles
BEGIN:STANDARD
TZNAME:PST
DTSTART:20201101T020000
TZOFFSETFROM:-0700
TZOFFSETTO:-0800
RDATE:20211107T020000
RDATE:20221106T020000
END:STANDARD
BEGIN:DAYLIGHT
TZNAME:PDT
DTSTART:20210314T020000
TZOFFSETFROM:-0800
TZOFFSETTO:-0700
RDATE:20220313T020000
END:DAYLIGHT
END:VTIMEZONE
BEGIN:VEVENT
UID:2b092ea5-c433-4aae-bae9-137198980e84
DTSTAMP:20260423T081803Z
DESCRIPTION:
DTSTART;TZID=America/Los_Angeles:20210819T120000
DTEND;TZID=America/Los_Angeles:20210819T130000
LOCATION:https://washoecasafoundation.com/get-involved/coffee-with-casa.htm
 l
SUMMARY:Coffee with CASA
END:VEVENT
END:VCALENDAR
