BEGIN:VCALENDAR
VERSION:2.0
PRODID:-//washoecasafoundation.com//NONSGML kigkonsult.se iCalcreator 2.30.
 10//
CALSCALE:GREGORIAN
METHOD:PUBLISH
UID:6dfbd9a9-b193-4332-979c-0c5d2648e0d0
X-WR-CALDESC:Join us for the Northern Nevada Pride Parade\, beginning in do
 wntown Reno at 10:00am on Saturday July 24th.   The Parade starts at Virgi
 nia/5th St. and ends at Island Ave.  The festival is from 11:00am to 5:00p
 m at Wingfield Park.  Come by and say hello to us at the CASA booth (#19).
X-WR-RELCALID:95c598720f71821c56d10d99e08db903
X-WR-TIMEZONE:America/Los_Angeles
BEGIN:VTIMEZONE
TZID:America/Los_Angeles
BEGIN:STANDARD
TZNAME:PST
DTSTART:20201101T020000
TZOFFSETFROM:-0700
TZOFFSETTO:-0800
RDATE:20211107T020000
RDATE:20221106T020000
END:STANDARD
BEGIN:DAYLIGHT
TZNAME:PDT
DTSTART:20210314T020000
TZOFFSETFROM:-0800
TZOFFSETTO:-0700
RDATE:20220313T020000
END:DAYLIGHT
END:VTIMEZONE
BEGIN:VEVENT
UID:478f2c58-26d7-4aee-be20-5c6659b696b6
DTSTAMP:20260423T094208Z
DESCRIPTION:Join us for the Northern Nevada Pride Parade\, beginning in dow
 ntown Reno at 10:00am on Saturday July 24th.   The Parade starts at Virgin
 ia/5th St. and ends at Island Ave.  The festival is from 11:00am to 5:00pm
  at Wingfield Park.  Come by and say hello to us at the CASA booth (#19).
DTSTART;TZID=America/Los_Angeles:20210724T100000
DTEND;TZID=America/Los_Angeles:20210724T170000
LOCATION:Watch the Parade and Join us at Wingfield Park
SUMMARY:Pride Parade
END:VEVENT
END:VCALENDAR
