BEGIN:VCALENDAR
VERSION:2.0
PRODID:-//washoecasafoundation.com//NONSGML kigkonsult.se iCalcreator 2.30.
 10//
CALSCALE:GREGORIAN
METHOD:PUBLISH
UID:21e62849-5a4d-4827-b424-2ed7f09458a7
X-WR-CALDESC:
X-WR-RELCALID:46eec9e87d1de53b836b6f28f1a90bc8
X-WR-TIMEZONE:America/Los_Angeles
BEGIN:VTIMEZONE
TZID:America/Los_Angeles
BEGIN:STANDARD
TZNAME:PST
DTSTART:20201101T020000
TZOFFSETFROM:-0700
TZOFFSETTO:-0800
RDATE:20211107T020000
RDATE:20221106T020000
END:STANDARD
BEGIN:DAYLIGHT
TZNAME:PDT
DTSTART:20210314T020000
TZOFFSETFROM:-0800
TZOFFSETTO:-0700
RDATE:20220313T020000
END:DAYLIGHT
END:VTIMEZONE
BEGIN:VEVENT
UID:137699ab-9de6-4c8b-b324-2157dedcfd3a
DTSTAMP:20260423T093943Z
DESCRIPTION:
DTSTART;TZID=America/Los_Angeles:20210715T190000
DTEND;TZID=America/Los_Angeles:20210715T200000
LOCATION:https://washoecasafoundation.com/get-involved/coffee-with-casa.htm
 l
SUMMARY:Coffee with CASA
END:VEVENT
END:VCALENDAR
