BEGIN:VCALENDAR
VERSION:2.0
PRODID:-//washoecasafoundation.com//NONSGML kigkonsult.se iCalcreator 2.30.
 10//
CALSCALE:GREGORIAN
METHOD:PUBLISH
UID:bb3790f6-131d-4ee1-9b3f-2dfab312a808
X-WR-CALDESC:CASA Board of Trustees Meeting\nEvery Third Tuesday of the Mon
 th\n5:15-8:15pm\nJoin Zoom Meeting\nhttps://us02web.zoom.us/j/84020039326?
 pwd=U2tNUnUvRWw1OGNQMThTbHdNOWtyZz09\nMeeting ID: 840 2003 9326\nPasscode:
  734830\n
X-WR-RELCALID:9cc688f17c3729c3a5f8c1cce0ec8773
X-WR-TIMEZONE:America/Los_Angeles
BEGIN:VTIMEZONE
TZID:America/Los_Angeles
BEGIN:STANDARD
TZNAME:PST
DTSTART:20201101T020000
TZOFFSETFROM:-0700
TZOFFSETTO:-0800
RDATE:20211107T020000
RDATE:20221106T020000
END:STANDARD
BEGIN:DAYLIGHT
TZNAME:PDT
DTSTART:20210314T020000
TZOFFSETFROM:-0800
TZOFFSETTO:-0700
RDATE:20220313T020000
END:DAYLIGHT
END:VTIMEZONE
BEGIN:VEVENT
UID:f8db80b8-38a8-4f83-b7fd-1de3b057b996
DTSTAMP:20260423T111152Z
DESCRIPTION:CASA Board of Trustees Meeting\nEvery Third Tuesday of the Mont
 h\n5:15-8:15pm\nJoin Zoom Meeting\nhttps://us02web.zoom.us/j/84020039326?p
 wd=U2tNUnUvRWw1OGNQMThTbHdNOWtyZz09\nMeeting ID: 840 2003 9326\nPasscode: 
 734830\n
DTSTART;TZID=America/Los_Angeles:20210615T171500
DTEND;TZID=America/Los_Angeles:20210615T193000
LOCATION:https://us02web.zoom.us/j/84020039326?pwd=U2tNUnUvRWw1OGNQMThTbHdN
 OWtyZz09
SUMMARY:Board of Trustees Meeting
END:VEVENT
END:VCALENDAR
