BEGIN:VCALENDAR
VERSION:2.0
PRODID:-//washoecasafoundation.com//NONSGML kigkonsult.se iCalcreator 2.30.
 10//
CALSCALE:GREGORIAN
METHOD:PUBLISH
UID:fc8ac001-65ea-49dd-bcdb-03601351fcee
X-WR-CALDESC:For more information email or call Erica Brown Washoe CASA Pro
 gram Case Manager. Or come to an informational Coffee with CASA.
X-WR-RELCALID:417459ce35a897777459f3bd1b7ad745
X-WR-TIMEZONE:America/Los_Angeles
BEGIN:VTIMEZONE
TZID:America/Los_Angeles
BEGIN:STANDARD
TZNAME:PST
DTSTART:20201101T020000
TZOFFSETFROM:-0700
TZOFFSETTO:-0800
RDATE:20211107T020000
RDATE:20221106T020000
END:STANDARD
BEGIN:DAYLIGHT
TZNAME:PDT
DTSTART:20210314T020000
TZOFFSETFROM:-0800
TZOFFSETTO:-0700
RDATE:20220313T020000
END:DAYLIGHT
END:VTIMEZONE
BEGIN:VEVENT
UID:62b28bc5-2139-46a9-a031-266745c747f8
DTSTAMP:20260423T111026Z
DESCRIPTION:For more information email or call Erica Brown Washoe CASA Prog
 ram Case Manager. Or come to an informational Coffee with CASA.
DTSTART;TZID=America/Los_Angeles:20210610T180000
DTEND;TZID=America/Los_Angeles:20210610T210000
LOCATION:https://washoecasafoundation.com/get-involved/
SUMMARY:Volunteer Training Summer Session
END:VEVENT
END:VCALENDAR
