BEGIN:VCALENDAR
VERSION:2.0
PRODID:-//washoecasafoundation.com//NONSGML kigkonsult.se iCalcreator 2.30.
 10//
CALSCALE:GREGORIAN
METHOD:PUBLISH
UID:3561bca1-dd64-4e60-b27a-e46bfc80e0b0
X-WR-CALDESC:For more information email or call Erica Brown Washoe CASA Pro
 gram Case Manager. Or come to an informational Coffee with CASA.
X-WR-RELCALID:a9b57721b90cf2e7ce9c09e44d55d633
X-WR-TIMEZONE:America/Los_Angeles
BEGIN:VTIMEZONE
TZID:America/Los_Angeles
BEGIN:STANDARD
TZNAME:PST
DTSTART:20201101T020000
TZOFFSETFROM:-0700
TZOFFSETTO:-0800
RDATE:20211107T020000
RDATE:20221106T020000
END:STANDARD
BEGIN:DAYLIGHT
TZNAME:PDT
DTSTART:20210314T020000
TZOFFSETFROM:-0800
TZOFFSETTO:-0700
RDATE:20220313T020000
END:DAYLIGHT
END:VTIMEZONE
BEGIN:VEVENT
UID:6290fa3e-7814-4fb7-b610-0bb9cc67cc8f
DTSTAMP:20260423T110633Z
DESCRIPTION:For more information email or call Erica Brown Washoe CASA Prog
 ram Case Manager. Or come to an informational Coffee with CASA.
DTSTART;TZID=America/Los_Angeles:20210603T180000
DTEND;TZID=America/Los_Angeles:20210603T210000
LOCATION:https://washoecasafoundation.com/get-involved/
SUMMARY:Volunteer Training Summer Session
END:VEVENT
END:VCALENDAR
