BEGIN:VCALENDAR
VERSION:2.0
PRODID:-//washoecasafoundation.com//NONSGML kigkonsult.se iCalcreator 2.30.
 10//
CALSCALE:GREGORIAN
METHOD:PUBLISH
UID:1f994fc8-0ea6-4a4d-91ed-55a67a554e11
X-WR-CALDESC:
X-WR-RELCALID:5253c455b2cf98316ba6714a8dfc17f8
X-WR-TIMEZONE:America/Los_Angeles
BEGIN:VTIMEZONE
TZID:America/Los_Angeles
BEGIN:STANDARD
TZNAME:PST
DTSTART:20201101T020000
TZOFFSETFROM:-0700
TZOFFSETTO:-0800
RDATE:20211107T020000
END:STANDARD
BEGIN:DAYLIGHT
TZNAME:PDT
DTSTART:20210314T020000
TZOFFSETFROM:-0800
TZOFFSETTO:-0700
RDATE:20220313T020000
END:DAYLIGHT
END:VTIMEZONE
BEGIN:VEVENT
UID:95785386-74e6-4ff5-9db7-4ef0afbe2ebd
DTSTAMP:20260423T135629Z
DESCRIPTION:
DTSTART;TZID=America/Los_Angeles:20210429T000000
DTEND;TZID=America/Los_Angeles:20210429T235900
LOCATION:
SUMMARY:Deadline to apply for the May/June Volunteer Training
END:VEVENT
END:VCALENDAR
