BEGIN:VCALENDAR
VERSION:2.0
PRODID:-//washoecasafoundation.com//NONSGML kigkonsult.se iCalcreator 2.30.
 10//
CALSCALE:GREGORIAN
METHOD:PUBLISH
UID:3212996c-f2d9-4ca4-96d0-8afaf87e2a5f
X-WR-CALDESC:
X-WR-RELCALID:237569a0b0e0eab428c2ac1913dc465a
X-WR-TIMEZONE:America/Los_Angeles
BEGIN:VTIMEZONE
TZID:America/Los_Angeles
BEGIN:STANDARD
TZNAME:PST
DTSTART:20201101T020000
TZOFFSETFROM:-0700
TZOFFSETTO:-0800
RDATE:20211107T020000
END:STANDARD
BEGIN:DAYLIGHT
TZNAME:PDT
DTSTART:20210314T020000
TZOFFSETFROM:-0800
TZOFFSETTO:-0700
RDATE:20220313T020000
END:DAYLIGHT
END:VTIMEZONE
BEGIN:VEVENT
UID:acb3de25-7744-49bf-9edf-58bff9b56e2d
DTSTAMP:20260423T141057Z
DESCRIPTION:
DTSTART;TZID=America/Los_Angeles:20210414T120000
DTEND;TZID=America/Los_Angeles:20210414T130000
LOCATION:
SUMMARY:Coffee with CASA
END:VEVENT
END:VCALENDAR
