BEGIN:VCALENDAR
VERSION:2.0
PRODID:-//washoecasafoundation.com//NONSGML kigkonsult.se iCalcreator 2.30.
 10//
CALSCALE:GREGORIAN
METHOD:PUBLISH
UID:e29d8c32-fd10-48a2-8bc1-ae1a16948acb
X-WR-CALDESC:
X-WR-RELCALID:1ff96f9f2c5dce16587bde4f8f0a463a
X-WR-TIMEZONE:America/Los_Angeles
BEGIN:VTIMEZONE
TZID:America/Los_Angeles
BEGIN:STANDARD
TZNAME:PST
DTSTART:20201101T020000
TZOFFSETFROM:-0700
TZOFFSETTO:-0800
RDATE:20211107T020000
END:STANDARD
BEGIN:DAYLIGHT
TZNAME:PDT
DTSTART:20210314T020000
TZOFFSETFROM:-0800
TZOFFSETTO:-0700
RDATE:20220313T020000
END:DAYLIGHT
END:VTIMEZONE
BEGIN:VEVENT
UID:dae002e2-c44b-43e7-938f-42d84d1c3407
DTSTAMP:20260423T142159Z
DESCRIPTION:
DTSTART;TZID=America/Los_Angeles:20210401T180000
DTEND;TZID=America/Los_Angeles:20210401T190000
LOCATION:
SUMMARY:Coffee with CASA
END:VEVENT
END:VCALENDAR
