BEGIN:VCALENDAR
VERSION:2.0
PRODID:-//washoecasafoundation.com//NONSGML kigkonsult.se iCalcreator 2.30.
 10//
CALSCALE:GREGORIAN
METHOD:PUBLISH
UID:7768221d-1903-4d11-b2a8-ffdd7e133e2e
X-WR-CALDESC:For more information email or call Erica Brown Washoe CASA Pro
 gram Case Manager. Or come to an informational Coffee with CASA.
X-WR-RELCALID:fdf7c712b80e93851540b553bfc29974
X-WR-TIMEZONE:America/Los_Angeles
BEGIN:VTIMEZONE
TZID:America/Los_Angeles
BEGIN:STANDARD
TZNAME:PST
DTSTART:20201101T020000
TZOFFSETFROM:-0700
TZOFFSETTO:-0800
RDATE:20211107T020000
END:STANDARD
BEGIN:DAYLIGHT
TZNAME:PDT
DTSTART:20210314T020000
TZOFFSETFROM:-0800
TZOFFSETTO:-0700
RDATE:20220313T020000
END:DAYLIGHT
END:VTIMEZONE
BEGIN:VEVENT
UID:75121a7c-8b8c-4cef-b7df-c097d6a71a85
DTSTAMP:20260423T153903Z
DESCRIPTION:For more information email or call Erica Brown Washoe CASA Prog
 ram Case Manager. Or come to an informational Coffee with CASA.
DTSTART;TZID=America/Los_Angeles:20210331T180000
DTEND;TZID=America/Los_Angeles:20210331T210000
LOCATION:https://washoecasafoundation.com/get-involved/
SUMMARY:Volunteer Training Winter Session
END:VEVENT
END:VCALENDAR
