BEGIN:VCALENDAR
VERSION:2.0
PRODID:-//washoecasafoundation.com//NONSGML kigkonsult.se iCalcreator 2.30.
 10//
CALSCALE:GREGORIAN
METHOD:PUBLISH
UID:03694299-6e3e-4838-81e5-91bcd2612a0d
X-WR-CALDESC:For more information email or call Erica Brown Washoe CASA Pro
 gram Case Manager. Or come to an informational Coffee with CASA.
X-WR-RELCALID:166931570a3f4122ed0b0fcdcd9d7534
X-WR-TIMEZONE:America/Los_Angeles
BEGIN:VTIMEZONE
TZID:America/Los_Angeles
BEGIN:STANDARD
TZNAME:PST
DTSTART:20201101T020000
TZOFFSETFROM:-0700
TZOFFSETTO:-0800
RDATE:20211107T020000
END:STANDARD
BEGIN:DAYLIGHT
TZNAME:PDT
DTSTART:20210314T020000
TZOFFSETFROM:-0800
TZOFFSETTO:-0700
RDATE:20220313T020000
END:DAYLIGHT
END:VTIMEZONE
BEGIN:VEVENT
UID:8a99c2fe-6f80-478c-a73e-b7354de7fc07
DTSTAMP:20260423T154346Z
DESCRIPTION:For more information email or call Erica Brown Washoe CASA Prog
 ram Case Manager. Or come to an informational Coffee with CASA.
DTSTART;TZID=America/Los_Angeles:20210324T180000
DTEND;TZID=America/Los_Angeles:20210324T210000
LOCATION:https://washoecasafoundation.com/get-involved/
SUMMARY:Volunteer Training Winter Session
END:VEVENT
END:VCALENDAR
