BEGIN:VCALENDAR
VERSION:2.0
PRODID:-//washoecasafoundation.com//NONSGML kigkonsult.se iCalcreator 2.30.
 10//
CALSCALE:GREGORIAN
METHOD:PUBLISH
UID:b1fc19fc-816d-41da-9b37-388722d1cf33
X-WR-CALDESC:For more information email or call Erica Brown Washoe CASA Pro
 gram Case Manager. Or come to an informational Coffee with CASA.
X-WR-RELCALID:5226bd146fdad6ff8d7e9a8bdf5ccf96
X-WR-TIMEZONE:America/Los_Angeles
BEGIN:VTIMEZONE
TZID:America/Los_Angeles
BEGIN:STANDARD
TZNAME:PST
DTSTART:20201101T020000
TZOFFSETFROM:-0700
TZOFFSETTO:-0800
RDATE:20211107T020000
END:STANDARD
BEGIN:DAYLIGHT
TZNAME:PDT
DTSTART:20210314T020000
TZOFFSETFROM:-0800
TZOFFSETTO:-0700
RDATE:20220313T020000
END:DAYLIGHT
END:VTIMEZONE
BEGIN:VEVENT
UID:fbaf5cc1-3f36-4a6f-b26c-6a313c350d08
DTSTAMP:20260423T153842Z
DESCRIPTION:For more information email or call Erica Brown Washoe CASA Prog
 ram Case Manager. Or come to an informational Coffee with CASA.
DTSTART;TZID=America/Los_Angeles:20210317T180000
DTEND;TZID=America/Los_Angeles:20210317T210000
LOCATION:https://washoecasafoundation.com/get-involved/
SUMMARY:Volunteer Training Winter Session
END:VEVENT
END:VCALENDAR
