BEGIN:VCALENDAR
VERSION:2.0
PRODID:-//washoecasafoundation.com//NONSGML kigkonsult.se iCalcreator 2.30.
 10//
CALSCALE:GREGORIAN
METHOD:PUBLISH
UID:20a751cf-9cb6-4c31-9bab-1a69d4f57164
X-WR-CALDESC:
X-WR-RELCALID:10d21e18544659fd7d65937b11fd54ef
X-WR-TIMEZONE:America/Los_Angeles
BEGIN:VTIMEZONE
TZID:America/Los_Angeles
BEGIN:STANDARD
TZNAME:PST
DTSTART:20201101T020000
TZOFFSETFROM:-0700
TZOFFSETTO:-0800
RDATE:20211107T020000
END:STANDARD
BEGIN:DAYLIGHT
TZNAME:PDT
DTSTART:20210314T020000
TZOFFSETFROM:-0800
TZOFFSETTO:-0700
RDATE:20220313T020000
END:DAYLIGHT
END:VTIMEZONE
BEGIN:VEVENT
UID:39cb07e4-6bf3-479f-b4c0-e8052b8e497f
DTSTAMP:20260423T154150Z
DESCRIPTION:
DTSTART;TZID=America/Los_Angeles:20210314T100000
DTEND;TZID=America/Los_Angeles:20210314T110000
LOCATION:
SUMMARY:Coffee with CASA
END:VEVENT
END:VCALENDAR
