BEGIN:VCALENDAR
VERSION:2.0
PRODID:-//washoecasafoundation.com//NONSGML kigkonsult.se iCalcreator 2.30.
 10//
CALSCALE:GREGORIAN
METHOD:PUBLISH
UID:ad4aa8a7-a980-4cd0-b0d8-4c6fa1d4ded8
X-WR-CALDESC:The World has slowed down\,\nBut our need for CASAs hasn’t. \n
  \n\n\n\n\n\n\n\nBecome a Court Appointed Special Advocate \n  \nBe the Di
 fference…  VOLUNTEER to be a Court Appointed Special Advocate (CASA) \n \n
 Please join us at a virtual Coffee with CASA \n \nGrab your favorite bever
 age/snack and join us for an informational session. \nLearn about CASA and
  what a volunteer commitment is all about. \n \nWednesday February 10\, 20
 21  10:00am\n\nLet us know you’re interested by using the ZOOM link below 
 to register:\n\nhttps://us02web.zoom.us/meeting/register/tZYsc-ipqjooGNaK_
 uoO-sNqbVOH6Pmd76nZ\n\n\n\n
X-WR-RELCALID:81753bd2d472e09b4c2d6f70a1a2bd90
X-WR-TIMEZONE:America/Los_Angeles
BEGIN:VTIMEZONE
TZID:America/Los_Angeles
BEGIN:STANDARD
TZNAME:PST
DTSTART:20201101T020000
TZOFFSETFROM:-0700
TZOFFSETTO:-0800
RDATE:20211107T020000
END:STANDARD
BEGIN:DAYLIGHT
TZNAME:PDT
DTSTART:20200308T020000
TZOFFSETFROM:-0800
TZOFFSETTO:-0700
RDATE:20210314T020000
RDATE:20220313T020000
END:DAYLIGHT
END:VTIMEZONE
BEGIN:VEVENT
UID:a7564121-6952-4c9a-8904-1f4f344ff4cb
DTSTAMP:20260423T170617Z
DESCRIPTION:The World has slowed down\,\nBut our need for CASAs hasn’t. \n 
 \n\n\n\n\n\n\n\nBecome a Court Appointed Special Advocate \n  \nBe the Dif
 ference…  VOLUNTEER to be a Court Appointed Special Advocate (CASA) \n \nP
 lease join us at a virtual Coffee with CASA \n \nGrab your favorite bevera
 ge/snack and join us for an informational session. \nLearn about CASA and 
 what a volunteer commitment is all about. \n \nWednesday February 10\, 202
 1  10:00am\n\nLet us know you’re interested by using the ZOOM link below t
 o register:\n\nhttps://us02web.zoom.us/meeting/register/tZYsc-ipqjooGNaK_u
 oO-sNqbVOH6Pmd76nZ\n\n\n\n
DTSTART;TZID=America/Los_Angeles:20210210T100000
DTEND;TZID=America/Los_Angeles:20210210T110000
LOCATION:https://us02web.zoom.us/meeting/register/tZYsc-ipqjooGNaK_uoO-sNqb
 VOH6Pmd76nZ
SUMMARY:Coffee with CASA
END:VEVENT
END:VCALENDAR
