BEGIN:VCALENDAR
VERSION:2.0
PRODID:-//washoecasafoundation.com//NONSGML kigkonsult.se iCalcreator 2.30.
 10//
CALSCALE:GREGORIAN
METHOD:PUBLISH
UID:c57f2212-9e08-44ce-97af-3b8f10f41dc5
X-WR-CALDESC:The World has slowed down\,\nBut our need for CASAs hasn’t. \n
  \n\n\n\n\n\n\n\nBecome a Court Appointed Special Advocate \n  \nBe the Di
 fference…  VOLUNTEER to be a Court Appointed Special Advocate (CASA) \n \n
 Please join us at a virtual Coffee with CASA \n \nGrab your favorite bever
 age/snack and join us for an informational session. \nLearn about CASA and
  what a volunteer commitment is all about. \n \nSunday January 10\, 2021  
 1:00pm\n\nLet us know you’re interested by using the ZOOM link below to re
 gister:\n\nhttps://us02web.zoom.us/meeting/register/tZEtf-CsqDMtGtBX8OnLEN
 WXyZ7VQwkyM9-u \n
X-WR-RELCALID:918e7482c3ea02ba7b6883fa5bd4b98f
X-WR-TIMEZONE:America/Los_Angeles
BEGIN:VTIMEZONE
TZID:America/Los_Angeles
BEGIN:STANDARD
TZNAME:PST
DTSTART:20201101T020000
TZOFFSETFROM:-0700
TZOFFSETTO:-0800
RDATE:20211107T020000
END:STANDARD
BEGIN:DAYLIGHT
TZNAME:PDT
DTSTART:20200308T020000
TZOFFSETFROM:-0800
TZOFFSETTO:-0700
RDATE:20210314T020000
RDATE:20220313T020000
END:DAYLIGHT
END:VTIMEZONE
BEGIN:VEVENT
UID:65108579-75ce-43bb-b357-ccff4d58c31b
DTSTAMP:20260423T183753Z
DESCRIPTION:The World has slowed down\,\nBut our need for CASAs hasn’t. \n 
 \n\n\n\n\n\n\n\nBecome a Court Appointed Special Advocate \n  \nBe the Dif
 ference…  VOLUNTEER to be a Court Appointed Special Advocate (CASA) \n \nP
 lease join us at a virtual Coffee with CASA \n \nGrab your favorite bevera
 ge/snack and join us for an informational session. \nLearn about CASA and 
 what a volunteer commitment is all about. \n \nSunday January 10\, 2021  1
 :00pm\n\nLet us know you’re interested by using the ZOOM link below to reg
 ister:\n\nhttps://us02web.zoom.us/meeting/register/tZEtf-CsqDMtGtBX8OnLENW
 XyZ7VQwkyM9-u \n
DTSTART;TZID=America/Los_Angeles:20210110T130000
DTEND;TZID=America/Los_Angeles:20210110T140000
LOCATION:https://us02web.zoom.us/meeting/register/tZEtf-CsqDMtGtBX8OnLENWXy
 Z7VQwkyM9-u
SUMMARY:Coffee with CASA
END:VEVENT
END:VCALENDAR
