BEGIN:VCALENDAR
VERSION:2.0
PRODID:-//washoecasafoundation.com//NONSGML kigkonsult.se iCalcreator 2.30.
 10//
CALSCALE:GREGORIAN
METHOD:PUBLISH
UID:d6740701-24f8-4ddc-a5e2-32d1a1537c07
X-WR-CALDESC:Looking for a unique volunteer opportunity? \n \nBecome a Cour
 t Appointed Special Advocate \n \nBe the Difference…  VOLUNTEER to be a Co
 urt Appointed Special Advocate (CASA) \n \nPlease join us at a virtual Cof
 fee with CASA \n \nGrab your favorite beverage/snack and join us for an in
 formational session. \nLearn about CASA and what a volunteer commitment is
  all about. \n \nTuesday December 29\, 2020 5:00pm \n\nLet us know you’re 
 interested by using the ZOOM link below to register:\n\nhttps://us02web.zo
 om.us/meeting/register/tZ0vc-qgpz8vGNZlSkAMF0sBFyMokud7F_ta\n\n
X-WR-RELCALID:4f5e8d84110a2e5e92b022895f7d93ea
X-WR-TIMEZONE:America/Los_Angeles
BEGIN:VTIMEZONE
TZID:America/Los_Angeles
BEGIN:STANDARD
TZNAME:PST
DTSTART:20201101T020000
TZOFFSETFROM:-0700
TZOFFSETTO:-0800
RDATE:20211107T020000
END:STANDARD
BEGIN:DAYLIGHT
TZNAME:PDT
DTSTART:20200308T020000
TZOFFSETFROM:-0800
TZOFFSETTO:-0700
RDATE:20210314T020000
RDATE:20220313T020000
END:DAYLIGHT
END:VTIMEZONE
BEGIN:VEVENT
UID:7abaef11-02db-472a-8d10-00d6b44c00bc
DTSTAMP:20260425T112307Z
DESCRIPTION:Looking for a unique volunteer opportunity? \n \nBecome a Court
  Appointed Special Advocate \n \nBe the Difference…  VOLUNTEER to be a Cou
 rt Appointed Special Advocate (CASA) \n \nPlease join us at a virtual Coff
 ee with CASA \n \nGrab your favorite beverage/snack and join us for an inf
 ormational session. \nLearn about CASA and what a volunteer commitment is 
 all about. \n \nTuesday December 29\, 2020 5:00pm \n\nLet us know you’re i
 nterested by using the ZOOM link below to register:\n\nhttps://us02web.zoo
 m.us/meeting/register/tZ0vc-qgpz8vGNZlSkAMF0sBFyMokud7F_ta\n\n
DTSTART;TZID=America/Los_Angeles:20201229T170000
DTEND;TZID=America/Los_Angeles:20201229T180000
LOCATION:https://us02web.zoom.us/meeting/register/tZ0vc-qgpz8vGNZlSkAMF0sBF
 yMokud7F_ta
SUMMARY:Coffee with CASA
END:VEVENT
END:VCALENDAR
