BEGIN:VCALENDAR
VERSION:2.0
PRODID:-//washoecasafoundation.com//NONSGML kigkonsult.se iCalcreator 2.30.
 10//
CALSCALE:GREGORIAN
METHOD:PUBLISH
UID:003b8355-67c7-44ab-99f4-41fdad3edb32
X-WR-CALDESC:Looking for a unique volunteer opportunity? \n \nBecome a Cour
 t Appointed Special Advocate \n \nBe the Difference…  VOLUNTEER to be a Co
 urt Appointed Special Advocate (CASA) \n \nPlease join us at a virtual Cof
 fee with CASA \n \nGrab your favorite beverage/snack and join us for an in
 formational session. \nLearn about CASA and what a volunteer commitment is
  all about. \n \nSaturday December 5\, 2020  9:00am \n\nLet us know you’re
  interested by using the ZOOM link below to register:\n\nhttps://us02web.z
 oom.us/meeting/register/tZIvcuCspjIqHNRbVEeRnyGpjfdqqQmKGZiW\n\n\n\n
X-WR-RELCALID:bb1c9ea2fc760351d79a4e8c58ab5994
X-WR-TIMEZONE:America/Los_Angeles
BEGIN:VTIMEZONE
TZID:America/Los_Angeles
BEGIN:STANDARD
TZNAME:PST
DTSTART:20201101T020000
TZOFFSETFROM:-0700
TZOFFSETTO:-0800
RDATE:20211107T020000
END:STANDARD
BEGIN:DAYLIGHT
TZNAME:PDT
DTSTART:20200308T020000
TZOFFSETFROM:-0800
TZOFFSETTO:-0700
RDATE:20210314T020000
RDATE:20220313T020000
END:DAYLIGHT
END:VTIMEZONE
BEGIN:VEVENT
UID:e27278d4-0f09-4391-98a3-0985a1c09a61
DTSTAMP:20260425T111839Z
DESCRIPTION:Looking for a unique volunteer opportunity? \n \nBecome a Court
  Appointed Special Advocate \n \nBe the Difference…  VOLUNTEER to be a Cou
 rt Appointed Special Advocate (CASA) \n \nPlease join us at a virtual Coff
 ee with CASA \n \nGrab your favorite beverage/snack and join us for an inf
 ormational session. \nLearn about CASA and what a volunteer commitment is 
 all about. \n \nSaturday December 5\, 2020  9:00am \n\nLet us know you’re 
 interested by using the ZOOM link below to register:\n\nhttps://us02web.zo
 om.us/meeting/register/tZIvcuCspjIqHNRbVEeRnyGpjfdqqQmKGZiW\n\n\n\n
DTSTART;TZID=America/Los_Angeles:20201205T090000
DTEND;TZID=America/Los_Angeles:20201205T100000
LOCATION:https://us02web.zoom.us/meeting/register/tZIvcuCspjIqHNRbVEeRnyGpj
 fdqqQmKGZiW
SUMMARY:Coffee with CASA
END:VEVENT
END:VCALENDAR
