BEGIN:VCALENDAR
VERSION:2.0
PRODID:-//washoecasafoundation.com//NONSGML kigkonsult.se iCalcreator 2.30.
 10//
CALSCALE:GREGORIAN
METHOD:PUBLISH
UID:c9978a45-10a1-4962-98ba-b97fd820675a
X-WR-CALDESC:CASA Fall Virtual Training\nNovember 3\, 2020 through December
  8\, 2020\, \nfollowed by a Virtual Swearing-In Ceremony.\n\nIntroduction 
    Tuesday November 3rd      6-9pm\nModel 1           Tuesday November 10t
 h     6-9pm\nModel 2           Tuesday November 17th    6-9pm\nModel 3    
        Tuesday November 24th    6-9pm\nModel 4           Tuesday December 
 1st        6-9pm\nModel 5          Thursday December 8th       6-9pm \nReq
 uirements:\nParticipants must have internet and computer access.  There wi
 ll be an on-line 'study room' that you will access with a username and pas
 sword provided by the instructor.  The Study Room will be opened to you st
 arting November 9th.  Classes will be held over Zoom. \nIf you have questi
 ons or concerns\, please contact the instructor.\nDeadline for Application
 s for this training is Wednesday September 30\, 2020 at 5:00pm\n
X-WR-RELCALID:dc84d987b8cc5859e727403f649d389a
X-WR-TIMEZONE:America/Los_Angeles
BEGIN:VTIMEZONE
TZID:America/Los_Angeles
BEGIN:STANDARD
TZNAME:PST
DTSTART:20201101T020000
TZOFFSETFROM:-0700
TZOFFSETTO:-0800
RDATE:20211107T020000
END:STANDARD
BEGIN:DAYLIGHT
TZNAME:PDT
DTSTART:20200308T020000
TZOFFSETFROM:-0800
TZOFFSETTO:-0700
RDATE:20210314T020000
RDATE:20220313T020000
END:DAYLIGHT
END:VTIMEZONE
BEGIN:VEVENT
UID:9cd01d54-5312-479e-90e6-7fc9306aa3b3
DTSTAMP:20260425T112450Z
DESCRIPTION:CASA Fall Virtual Training\nNovember 3\, 2020 through December 
 8\, 2020\, \nfollowed by a Virtual Swearing-In Ceremony.\n\nIntroduction  
   Tuesday November 3rd      6-9pm\nModel 1           Tuesday November 10th
      6-9pm\nModel 2           Tuesday November 17th    6-9pm\nModel 3     
       Tuesday November 24th    6-9pm\nModel 4           Tuesday December 1
 st        6-9pm\nModel 5          Thursday December 8th       6-9pm \nRequ
 irements:\nParticipants must have internet and computer access.  There wil
 l be an on-line 'study room' that you will access with a username and pass
 word provided by the instructor.  The Study Room will be opened to you sta
 rting November 9th.  Classes will be held over Zoom. \nIf you have questio
 ns or concerns\, please contact the instructor.\nDeadline for Applications
  for this training is Wednesday September 30\, 2020 at 5:00pm\n
DTSTART;TZID=America/Los_Angeles:20201201T180000
DTEND;TZID=America/Los_Angeles:20201201T210000
LOCATION:Classes will be held on Zoom.
SUMMARY:CASA FALL Virtual Training
END:VEVENT
END:VCALENDAR
