BEGIN:VCALENDAR
VERSION:2.0
PRODID:-//washoecasafoundation.com//NONSGML kigkonsult.se iCalcreator 2.30.
 10//
CALSCALE:GREGORIAN
METHOD:PUBLISH
UID:60572677-6e2d-438e-8b79-d030f0586e9f
X-WR-CALDESC:Looking for a unique volunteer opportunity? \n \nBecome a Cour
 t Appointed Special Advocate \n \nBe the Difference…  VOLUNTEER to be a Co
 urt Appointed Special Advocate (CASA) \n \nPlease join us at a virtual Cof
 fee with CASA \n \nGrab your favorite beverage/snack and join us for an in
 formational session. \nLearn about CASA and what a volunteer commitment is
  all about. \n \nSunday November 15\, 2020 1:00pm\n\nLet us know you’re in
 terested by registering using the ZOOM link below:\n\nhttps://us02web.zoom
 .us/meeting/register/tZMvcu6orT0sGNyIya9A6NtjsENxARZCJFnE\n\n\n
X-WR-RELCALID:6869b53d7de1f4863f38bbae6ac941aa
X-WR-TIMEZONE:America/Los_Angeles
BEGIN:VTIMEZONE
TZID:America/Los_Angeles
BEGIN:STANDARD
TZNAME:PST
DTSTART:20201101T020000
TZOFFSETFROM:-0700
TZOFFSETTO:-0800
RDATE:20211107T020000
END:STANDARD
BEGIN:DAYLIGHT
TZNAME:PDT
DTSTART:20200308T020000
TZOFFSETFROM:-0800
TZOFFSETTO:-0700
RDATE:20210314T020000
RDATE:20220313T020000
END:DAYLIGHT
END:VTIMEZONE
BEGIN:VEVENT
UID:c6fbe7c3-1b17-48a8-955e-328ce4fa6636
DTSTAMP:20260425T123432Z
DESCRIPTION:Looking for a unique volunteer opportunity? \n \nBecome a Court
  Appointed Special Advocate \n \nBe the Difference…  VOLUNTEER to be a Cou
 rt Appointed Special Advocate (CASA) \n \nPlease join us at a virtual Coff
 ee with CASA \n \nGrab your favorite beverage/snack and join us for an inf
 ormational session. \nLearn about CASA and what a volunteer commitment is 
 all about. \n \nSunday November 15\, 2020 1:00pm\n\nLet us know you’re int
 erested by registering using the ZOOM link below:\n\nhttps://us02web.zoom.
 us/meeting/register/tZMvcu6orT0sGNyIya9A6NtjsENxARZCJFnE\n\n\n
DTSTART;TZID=America/Los_Angeles:20201115T130000
DTEND;TZID=America/Los_Angeles:20201115T140000
LOCATION:Register for the coffee today!
SUMMARY:Coffee with CASA
END:VEVENT
END:VCALENDAR
