BEGIN:VCALENDAR
VERSION:2.0
PRODID:-//washoecasafoundation.com//NONSGML kigkonsult.se iCalcreator 2.30.
 10//
CALSCALE:GREGORIAN
METHOD:PUBLISH
UID:10e788fe-4462-4081-98e4-a3f3f8e2616d
X-WR-CALDESC:Looking for a unique volunteer opportunity? \n \nBecome a Cour
 t Appointed Special Advocate \n \nBe the Difference…  VOLUNTEER to be a Co
 urt Appointed Special Advocate (CASA) \n \nPlease join us at a virtual Cof
 fee with CASA \n \nGrab your favorite beverage/snack and join us for an in
 formational session. \nLearn about CASA and what a volunteer commitment is
  all about. \n \nWednesday October 26\, 2020 4:00pm\n\nTopic: Coffee with 
 CASA\nTime: Oct 26\, 2020 04:00 PM Pacific Time (US and Canada)\n\nJoin Zo
 om Meeting\nhttps://us02web.zoom.us/j/83848395564?pwd=Zis5U2RDVGF5TEFOMVhy
 WUFITzVwdz09\n\n\nMeeting ID: 838 4839 5564\nPasscode: 492711\n\nDial by y
 our location  +1 669 900 6833 US \n\n
X-WR-RELCALID:44d112eaf2f2258194c0c4104f7240bf
X-WR-TIMEZONE:America/Los_Angeles
BEGIN:VTIMEZONE
TZID:America/Los_Angeles
BEGIN:STANDARD
TZNAME:PST
DTSTART:20191103T020000
TZOFFSETFROM:-0700
TZOFFSETTO:-0800
RDATE:20201101T020000
RDATE:20211107T020000
END:STANDARD
BEGIN:DAYLIGHT
TZNAME:PDT
DTSTART:20200308T020000
TZOFFSETFROM:-0800
TZOFFSETTO:-0700
RDATE:20210314T020000
RDATE:20220313T020000
END:DAYLIGHT
END:VTIMEZONE
BEGIN:VEVENT
UID:b6b4b6a5-8f64-4ce8-8bd7-6f44416dc74d
DTSTAMP:20260425T140332Z
DESCRIPTION:Looking for a unique volunteer opportunity? \n \nBecome a Court
  Appointed Special Advocate \n \nBe the Difference…  VOLUNTEER to be a Cou
 rt Appointed Special Advocate (CASA) \n \nPlease join us at a virtual Coff
 ee with CASA \n \nGrab your favorite beverage/snack and join us for an inf
 ormational session. \nLearn about CASA and what a volunteer commitment is 
 all about. \n \nWednesday October 26\, 2020 4:00pm\n\nTopic: Coffee with C
 ASA\nTime: Oct 26\, 2020 04:00 PM Pacific Time (US and Canada)\n\nJoin Zoo
 m Meeting\nhttps://us02web.zoom.us/j/83848395564?pwd=Zis5U2RDVGF5TEFOMVhyW
 UFITzVwdz09\n\n\nMeeting ID: 838 4839 5564\nPasscode: 492711\n\nDial by yo
 ur location  +1 669 900 6833 US \n\n
DTSTART;TZID=America/Los_Angeles:20201026T160000
DTEND;TZID=America/Los_Angeles:20201026T170000
LOCATION:Be sure to note your passcode.
SUMMARY:Coffee with CASA
END:VEVENT
END:VCALENDAR
