BEGIN:VCALENDAR
VERSION:2.0
PRODID:-//washoecasafoundation.com//NONSGML kigkonsult.se iCalcreator 2.30.
 10//
CALSCALE:GREGORIAN
METHOD:PUBLISH
UID:7c44db5a-06b2-4a8f-953a-dad914f84ef4
X-WR-CALDESC:CASA Board of Trustees Meeting\nEvery Third Tuesday of the Mon
 th\n5:15-8:15pm\nJoin Zoom Meeting\nhttps://us02web.zoom.us/j/84020039326?
 pwd=U2tNUnUvRWw1OGNQMThTbHdNOWtyZz09\nMeeting ID: 840 2003 9326\nPasscode:
  734830\n
X-WR-RELCALID:7cdb1d249cbd6a3335c47b8c140715f4
X-WR-TIMEZONE:America/Los_Angeles
BEGIN:VTIMEZONE
TZID:America/Los_Angeles
BEGIN:STANDARD
TZNAME:PST
DTSTART:20191103T020000
TZOFFSETFROM:-0700
TZOFFSETTO:-0800
RDATE:20201101T020000
RDATE:20211107T020000
END:STANDARD
BEGIN:DAYLIGHT
TZNAME:PDT
DTSTART:20200308T020000
TZOFFSETFROM:-0800
TZOFFSETTO:-0700
RDATE:20210314T020000
RDATE:20220313T020000
END:DAYLIGHT
END:VTIMEZONE
BEGIN:VEVENT
UID:c1f52310-5bcb-4625-9b75-541c89cc7c8b
DTSTAMP:20260425T141152Z
DESCRIPTION:CASA Board of Trustees Meeting\nEvery Third Tuesday of the Mont
 h\n5:15-8:15pm\nJoin Zoom Meeting\nhttps://us02web.zoom.us/j/84020039326?p
 wd=U2tNUnUvRWw1OGNQMThTbHdNOWtyZz09\nMeeting ID: 840 2003 9326\nPasscode: 
 734830\n
DTSTART;TZID=America/Los_Angeles:20201020T171500
DTEND;TZID=America/Los_Angeles:20201020T193000
LOCATION:https://us02web.zoom.us/j/84020039326?pwd=U2tNUnUvRWw1OGNQMThTbHdN
 OWtyZz09
SUMMARY:Board of Trustees Meeting
END:VEVENT
END:VCALENDAR
