BEGIN:VCALENDAR
VERSION:2.0
PRODID:-//washoecasafoundation.com//NONSGML kigkonsult.se iCalcreator 2.30.
 10//
CALSCALE:GREGORIAN
METHOD:PUBLISH
UID:fbf74473-9d22-4946-9a0c-663c11ed591e
X-WR-CALDESC:Looking for a unique volunteer opportunity? \n \nBecome a Cour
 t Appointed Special Advocate \n \nBe the Difference…  VOLUNTEER to be a Co
 urt Appointed Special Advocate (CASA) \n \nPlease join us at a virtual Cof
 fee with CASA \n \nGrab your favorite beverage/snack and join us for an in
 formational session. \nLearn about CASA and what a volunteer commitment is
  all about. \n \nWednesday October 8\, 2020 5:30pm. \n \nTopic: Coffee wit
 h CASA\nTime: Oct 8\, 2020 05:30 PM Pacific Time (US and Canada)\n\nJoin Z
 oom Meeting\nhttps://us02web.zoom.us/j/89607919612?pwd=dzRFNy9LNW1oVE5xREp
 vRWZFM1ltdz09\n\nMeeting ID: 896 0791 9612\nPasscode: 732848\nDial by your
  location   +1 669 900 6833 US \n\n\n
X-WR-RELCALID:1d88e2b2c6d0479cc157d1b26f506959
X-WR-TIMEZONE:America/Los_Angeles
BEGIN:VTIMEZONE
TZID:America/Los_Angeles
BEGIN:STANDARD
TZNAME:PST
DTSTART:20191103T020000
TZOFFSETFROM:-0700
TZOFFSETTO:-0800
RDATE:20201101T020000
RDATE:20211107T020000
END:STANDARD
BEGIN:DAYLIGHT
TZNAME:PDT
DTSTART:20200308T020000
TZOFFSETFROM:-0800
TZOFFSETTO:-0700
RDATE:20210314T020000
RDATE:20220313T020000
END:DAYLIGHT
END:VTIMEZONE
BEGIN:VEVENT
UID:ea789283-4200-444f-8c05-997f20490b3e
DTSTAMP:20260425T141505Z
DESCRIPTION:Looking for a unique volunteer opportunity? \n \nBecome a Court
  Appointed Special Advocate \n \nBe the Difference…  VOLUNTEER to be a Cou
 rt Appointed Special Advocate (CASA) \n \nPlease join us at a virtual Coff
 ee with CASA \n \nGrab your favorite beverage/snack and join us for an inf
 ormational session. \nLearn about CASA and what a volunteer commitment is 
 all about. \n \nWednesday October 8\, 2020 5:30pm. \n \nTopic: Coffee with
  CASA\nTime: Oct 8\, 2020 05:30 PM Pacific Time (US and Canada)\n\nJoin Zo
 om Meeting\nhttps://us02web.zoom.us/j/89607919612?pwd=dzRFNy9LNW1oVE5xREpv
 RWZFM1ltdz09\n\nMeeting ID: 896 0791 9612\nPasscode: 732848\nDial by your 
 location   +1 669 900 6833 US \n\n\n
DTSTART;TZID=America/Los_Angeles:20201008T173000
DTEND;TZID=America/Los_Angeles:20201008T183000
LOCATION:Be sure to make note of your passcode.
SUMMARY:Coffee with CASA
END:VEVENT
END:VCALENDAR
