BEGIN:VCALENDAR
VERSION:2.0
PRODID:-//washoecasafoundation.com//NONSGML kigkonsult.se iCalcreator 2.30.
 10//
CALSCALE:GREGORIAN
METHOD:PUBLISH
UID:f2cc5b36-8134-4377-80ec-bf356dfd1a72
X-WR-CALDESC:CASA Board of Trustees Meeting\nEvery Third Tuesday of the Mon
 th\n5:15-8:15pm\nZoom Meeting
X-WR-RELCALID:c03799b76fa7682a2262ef07fc7f3e4a
X-WR-TIMEZONE:America/Los_Angeles
BEGIN:VTIMEZONE
TZID:America/Los_Angeles
BEGIN:STANDARD
TZNAME:PST
DTSTART:20191103T020000
TZOFFSETFROM:-0700
TZOFFSETTO:-0800
RDATE:20201101T020000
RDATE:20211107T020000
END:STANDARD
BEGIN:DAYLIGHT
TZNAME:PDT
DTSTART:20200308T020000
TZOFFSETFROM:-0800
TZOFFSETTO:-0700
RDATE:20210314T020000
RDATE:20220313T020000
END:DAYLIGHT
END:VTIMEZONE
BEGIN:VEVENT
UID:6a9d1023-05cf-4930-8e2d-53ef4a90c687
DTSTAMP:20260425T152311Z
DESCRIPTION:CASA Board of Trustees Meeting\nEvery Third Tuesday of the Mont
 h\n5:15-8:15pm\nZoom Meeting
DTSTART;TZID=America/Los_Angeles:20200915T171500
DTEND;TZID=America/Los_Angeles:20200915T193000
LOCATION:https://us02web.zoom.us/j/89308994542?pwd=TEFzbGRzREI3MVlkZmluemVk
 MEhHdz09
SUMMARY:Board of Trustees Meeting
END:VEVENT
END:VCALENDAR
