BEGIN:VCALENDAR
VERSION:2.0
PRODID:-//washoecasafoundation.com//NONSGML kigkonsult.se iCalcreator 2.30.
 10//
CALSCALE:GREGORIAN
METHOD:PUBLISH
UID:9b23d735-098a-400f-9ff6-23eba41ab45e
X-WR-CALDESC:Virtual Coffee with CASA
X-WR-RELCALID:a4898c0ddee892a7c00f804b6154a539
X-WR-TIMEZONE:America/Los_Angeles
BEGIN:VTIMEZONE
TZID:America/Los_Angeles
BEGIN:STANDARD
TZNAME:PST
DTSTART:20191103T020000
TZOFFSETFROM:-0700
TZOFFSETTO:-0800
RDATE:20201101T020000
RDATE:20211107T020000
END:STANDARD
BEGIN:DAYLIGHT
TZNAME:PDT
DTSTART:20200308T020000
TZOFFSETFROM:-0800
TZOFFSETTO:-0700
RDATE:20210314T020000
END:DAYLIGHT
END:VTIMEZONE
BEGIN:VEVENT
UID:8c9b43a1-e7df-4184-8482-26a629c911ad
DTSTAMP:20260425T165834Z
DESCRIPTION:Virtual Coffee with CASA
DTSTART;TZID=America/Los_Angeles:20200812T190000
DTEND;TZID=America/Los_Angeles:20200812T200000
LOCATION:Zoom Meeting
SUMMARY:Coffee with CASA
END:VEVENT
END:VCALENDAR
