BEGIN:VCALENDAR
VERSION:2.0
PRODID:-//washoecasafoundation.com//NONSGML kigkonsult.se iCalcreator 2.30.
 10//
CALSCALE:GREGORIAN
METHOD:PUBLISH
UID:2b65626c-be7f-409b-b24b-01e31649d5a9
X-WR-CALDESC:Join us for a casual information session to discuss CASA over 
 coffee\, tea\, or non-alcoholic your beverage of choice.  Talk to current 
 volunteers about the work that they do.  Learn more about all of the ways 
 to get involved including becoming a volunteer or a Friend of CASA.\n\nDue
  to the current shutdown\, we have suspended all Coffee with CASA events. 
  We are still looking for volunteers!  Please check back for future dates.
  We apologize for the inconvenience. Instead\, we are hosting Virtual Coff
 ee with CASA on Zoom. If you are interested in volunteering\, please email
  us at washoecasa@gmail.com. \n\nJoin Zoom Meeting https://us02web.zoom.us
 /j/89829239875?pwd=cW5SMTN1ajBnUTJSZUU4dnBQVTJWUT09\nMeeting ID: 898 2923 
 9875 Or Call: +1 669 900 6833
X-WR-RELCALID:14f5eb5952c50cc68ec26d8da168c1f2
X-WR-TIMEZONE:America/Chicago
BEGIN:VTIMEZONE
TZID:America/Chicago
BEGIN:STANDARD
TZNAME:CST
DTSTART:20191103T020000
TZOFFSETFROM:-0500
TZOFFSETTO:-0600
RDATE:20201101T020000
RDATE:20211107T020000
END:STANDARD
BEGIN:DAYLIGHT
TZNAME:CDT
DTSTART:20200308T020000
TZOFFSETFROM:-0600
TZOFFSETTO:-0500
RDATE:20210314T020000
END:DAYLIGHT
END:VTIMEZONE
BEGIN:VEVENT
UID:0f245719-ea85-438d-8909-a9c2e5e65cc5
DTSTAMP:20260425T182949Z
DESCRIPTION:Join us for a casual information session to discuss CASA over c
 offee\, tea\, or non-alcoholic your beverage of choice.  Talk to current v
 olunteers about the work that they do.  Learn more about all of the ways t
 o get involved including becoming a volunteer or a Friend of CASA.\n\nDue 
 to the current shutdown\, we have suspended all Coffee with CASA events.  
 We are still looking for volunteers!  Please check back for future dates. 
 We apologize for the inconvenience. Instead\, we are hosting Virtual Coffe
 e with CASA on Zoom. If you are interested in volunteering\, please email 
 us at washoecasa@gmail.com. \n\nJoin Zoom Meeting https://us02web.zoom.us/
 j/89829239875?pwd=cW5SMTN1ajBnUTJSZUU4dnBQVTJWUT09\nMeeting ID: 898 2923 9
 875 Or Call: +1 669 900 6833
DTSTART;TZID=America/Chicago:20200716T173000
DTEND;TZID=America/Chicago:20200716T183000
LOCATION:Swill Coffee and Wine | 3366 Lakeside Ct.\, Reno\, NV 89509
SUMMARY:Coffee with CASA
END:VEVENT
END:VCALENDAR
